BEGIN:VCALENDAR
VERSION:2.0
PRODID:-//Grand Valley Outdoor Recreation Coalition - ECPv6.15.17.1//NONSGML v1.0//EN
CALSCALE:GREGORIAN
METHOD:PUBLISH
X-WR-CALNAME:Grand Valley Outdoor Recreation Coalition
X-ORIGINAL-URL:https://gvorc.org
X-WR-CALDESC:Events for Grand Valley Outdoor Recreation Coalition
REFRESH-INTERVAL;VALUE=DURATION:PT1H
X-Robots-Tag:noindex
X-PUBLISHED-TTL:PT1H
BEGIN:VTIMEZONE
TZID:America/Denver
BEGIN:DAYLIGHT
TZOFFSETFROM:-0700
TZOFFSETTO:-0600
TZNAME:MDT
DTSTART:20240310T090000
END:DAYLIGHT
BEGIN:STANDARD
TZOFFSETFROM:-0600
TZOFFSETTO:-0700
TZNAME:MST
DTSTART:20241103T080000
END:STANDARD
BEGIN:DAYLIGHT
TZOFFSETFROM:-0700
TZOFFSETTO:-0600
TZNAME:MDT
DTSTART:20250309T090000
END:DAYLIGHT
BEGIN:STANDARD
TZOFFSETFROM:-0600
TZOFFSETTO:-0700
TZNAME:MST
DTSTART:20251102T080000
END:STANDARD
BEGIN:DAYLIGHT
TZOFFSETFROM:-0700
TZOFFSETTO:-0600
TZNAME:MDT
DTSTART:20260308T090000
END:DAYLIGHT
BEGIN:STANDARD
TZOFFSETFROM:-0600
TZOFFSETTO:-0700
TZNAME:MST
DTSTART:20261101T080000
END:STANDARD
END:VTIMEZONE
BEGIN:VEVENT
DTSTART;TZID=America/Denver:20251203T180000
DTEND;TZID=America/Denver:20251203T200000
DTSTAMP:20260419T123322
CREATED:20251103T230602Z
LAST-MODIFIED:20251103T230602Z
UID:1526-1764784800-1764792000@gvorc.org
SUMMARY:Nordic Ski Wax Clinic
DESCRIPTION:Hosted by: The Gear Junction & Grand Mesa Nordic Council\nTime: 6 – 8 p.m.\nLocation: 436 Main St. / GJ
URL:https://gvorc.org/gvorc-event/nordic-ski-wax-clinic/
CATEGORIES:Skiing
END:VEVENT
BEGIN:VEVENT
DTSTART;TZID=America/Denver:20251203T193000
DTEND;TZID=America/Denver:20251203T220000
DTSTAMP:20260419T123322
CREATED:20251014T205916Z
LAST-MODIFIED:20251014T205916Z
UID:1427-1764790200-1764799200@gvorc.org
SUMMARY:Warren Miller’s “Snow-ciety”
DESCRIPTION:Time: 7:30 p.m. – 10 p.m. \nLocation: Avalon Theatre
URL:https://gvorc.org/gvorc-event/warren-millers-snow-ciety/
CATEGORIES:Skiing
END:VEVENT
END:VCALENDAR