BEGIN:VCALENDAR
VERSION:2.0
PRODID:-//Grand Valley Outdoor Recreation Coalition - ECPv6.15.17.1//NONSGML v1.0//EN
CALSCALE:GREGORIAN
METHOD:PUBLISH
X-WR-CALNAME:Grand Valley Outdoor Recreation Coalition
X-ORIGINAL-URL:https://gvorc.org
X-WR-CALDESC:Events for Grand Valley Outdoor Recreation Coalition
REFRESH-INTERVAL;VALUE=DURATION:PT1H
X-Robots-Tag:noindex
X-PUBLISHED-TTL:PT1H
BEGIN:VTIMEZONE
TZID:America/Denver
BEGIN:DAYLIGHT
TZOFFSETFROM:-0700
TZOFFSETTO:-0600
TZNAME:MDT
DTSTART:20250309T090000
END:DAYLIGHT
BEGIN:STANDARD
TZOFFSETFROM:-0600
TZOFFSETTO:-0700
TZNAME:MST
DTSTART:20251102T080000
END:STANDARD
BEGIN:DAYLIGHT
TZOFFSETFROM:-0700
TZOFFSETTO:-0600
TZNAME:MDT
DTSTART:20260308T090000
END:DAYLIGHT
BEGIN:STANDARD
TZOFFSETFROM:-0600
TZOFFSETTO:-0700
TZNAME:MST
DTSTART:20261101T080000
END:STANDARD
BEGIN:DAYLIGHT
TZOFFSETFROM:-0700
TZOFFSETTO:-0600
TZNAME:MDT
DTSTART:20270314T090000
END:DAYLIGHT
BEGIN:STANDARD
TZOFFSETFROM:-0600
TZOFFSETTO:-0700
TZNAME:MST
DTSTART:20271107T080000
END:STANDARD
END:VTIMEZONE
BEGIN:VEVENT
DTSTART;TZID=America/Denver:20260110T103000
DTEND;TZID=America/Denver:20260110T123000
DTSTAMP:20260425T075159
CREATED:20260110T015819Z
LAST-MODIFIED:20260110T015819Z
UID:1610-1768041000-1768048200@gvorc.org
SUMMARY:Learn to Ski on the Grand Mesa
DESCRIPTION:Presented by: Grand Mesa Nordic Council\nTime: 10:30 a.m. – 12:30 p.m.\nLocation: County Line Trailhead
URL:https://gvorc.org/gvorc-event/learn-to-ski-on-the-grand-mesa/
CATEGORIES:Skiing
END:VEVENT
BEGIN:VEVENT
DTSTART;TZID=America/Denver:20260110T110000
DTEND;TZID=America/Denver:20260110T140000
DTSTAMP:20260425T075159
CREATED:20260110T015900Z
LAST-MODIFIED:20260110T020026Z
UID:1611-1768042800-1768053600@gvorc.org
SUMMARY:Kids Winter Games
DESCRIPTION:Presented by: Powderhorn Mountain Resort\nTime: 11:00 a.m. – 2:00 p.m.\nLocation: Powderhorn Mountain Resort
URL:https://gvorc.org/gvorc-event/kids-winter-games/
CATEGORIES:Skiing
END:VEVENT
END:VCALENDAR