BEGIN:VCALENDAR
VERSION:2.0
PRODID:-//Grand Valley Outdoor Recreation Coalition - ECPv6.15.17.1//NONSGML v1.0//EN
CALSCALE:GREGORIAN
METHOD:PUBLISH
X-ORIGINAL-URL:https://gvorc.org
X-WR-CALDESC:Events for Grand Valley Outdoor Recreation Coalition
REFRESH-INTERVAL;VALUE=DURATION:PT1H
X-Robots-Tag:noindex
X-PUBLISHED-TTL:PT1H
BEGIN:VTIMEZONE
TZID:America/Denver
BEGIN:DAYLIGHT
TZOFFSETFROM:-0700
TZOFFSETTO:-0600
TZNAME:MDT
DTSTART:20250309T090000
END:DAYLIGHT
BEGIN:STANDARD
TZOFFSETFROM:-0600
TZOFFSETTO:-0700
TZNAME:MST
DTSTART:20251102T080000
END:STANDARD
BEGIN:DAYLIGHT
TZOFFSETFROM:-0700
TZOFFSETTO:-0600
TZNAME:MDT
DTSTART:20260308T090000
END:DAYLIGHT
BEGIN:STANDARD
TZOFFSETFROM:-0600
TZOFFSETTO:-0700
TZNAME:MST
DTSTART:20261101T080000
END:STANDARD
BEGIN:DAYLIGHT
TZOFFSETFROM:-0700
TZOFFSETTO:-0600
TZNAME:MDT
DTSTART:20270314T090000
END:DAYLIGHT
BEGIN:STANDARD
TZOFFSETFROM:-0600
TZOFFSETTO:-0700
TZNAME:MST
DTSTART:20271107T080000
END:STANDARD
END:VTIMEZONE
BEGIN:VEVENT
DTSTART;TZID=America/Denver:20260214T090000
DTEND;TZID=America/Denver:20260214T160000
DTSTAMP:20260419T095303
CREATED:20260212T183424Z
LAST-MODIFIED:20260212T183424Z
UID:1646-1771059600-1771084800@gvorc.org
SUMMARY:Valentine’s Day Poker Run
DESCRIPTION:Presented by: CDA\nTime: 9:00 a.m. – 4:00 p.m.\nLocation: Powderhorn Mountain Resort
URL:https://gvorc.org/gvorc-event/valentines-day-poker-run/
CATEGORIES:Skiing
END:VEVENT
BEGIN:VEVENT
DTSTART;TZID=America/Denver:20260214T103000
DTEND;TZID=America/Denver:20260214T120000
DTSTAMP:20260419T095303
CREATED:20260212T183652Z
LAST-MODIFIED:20260212T183652Z
UID:1647-1771065000-1771070400@gvorc.org
SUMMARY:Sweetheart Clinic
DESCRIPTION:Presented by: Grand Mesa Nordic Council\nTime: 10:30 a.m. – 12:00 p.m.\nLocation: Skyway Trailhead
URL:https://gvorc.org/gvorc-event/sweetheart-clinic/
CATEGORIES:Skiing
END:VEVENT
END:VCALENDAR