BEGIN:VCALENDAR
VERSION:2.0
PRODID:-//Grand Valley Outdoor Recreation Coalition - ECPv6.15.17.1//NONSGML v1.0//EN
CALSCALE:GREGORIAN
METHOD:PUBLISH
X-WR-CALNAME:Grand Valley Outdoor Recreation Coalition
X-ORIGINAL-URL:https://gvorc.org
X-WR-CALDESC:Events for Grand Valley Outdoor Recreation Coalition
REFRESH-INTERVAL;VALUE=DURATION:PT1H
X-Robots-Tag:noindex
X-PUBLISHED-TTL:PT1H
BEGIN:VTIMEZONE
TZID:America/Denver
BEGIN:DAYLIGHT
TZOFFSETFROM:-0700
TZOFFSETTO:-0600
TZNAME:MDT
DTSTART:20250309T090000
END:DAYLIGHT
BEGIN:STANDARD
TZOFFSETFROM:-0600
TZOFFSETTO:-0700
TZNAME:MST
DTSTART:20251102T080000
END:STANDARD
BEGIN:DAYLIGHT
TZOFFSETFROM:-0700
TZOFFSETTO:-0600
TZNAME:MDT
DTSTART:20260308T090000
END:DAYLIGHT
BEGIN:STANDARD
TZOFFSETFROM:-0600
TZOFFSETTO:-0700
TZNAME:MST
DTSTART:20261101T080000
END:STANDARD
BEGIN:DAYLIGHT
TZOFFSETFROM:-0700
TZOFFSETTO:-0600
TZNAME:MDT
DTSTART:20270314T090000
END:DAYLIGHT
BEGIN:STANDARD
TZOFFSETFROM:-0600
TZOFFSETTO:-0700
TZNAME:MST
DTSTART:20271107T080000
END:STANDARD
END:VTIMEZONE
BEGIN:VEVENT
DTSTART;VALUE=DATE:20261008
DTEND;VALUE=DATE:20261012
DTSTAMP:20260420T160319
CREATED:20260307T044216Z
LAST-MODIFIED:20260307T044216Z
UID:1730-1791417600-1791763199@gvorc.org
SUMMARY:Collegiate Mountain Bike National Championships
DESCRIPTION:Presented by: USA Cycling\nTime: TBD\nLocation: Powderhorn Mountain Resort
URL:https://gvorc.org/gvorc-event/collegiate-mountain-bike-national-championships/
CATEGORIES:Mountain Bike
END:VEVENT
END:VCALENDAR